BEGIN:VCALENDAR
VERSION:2.0
PRODID:-//wp-events-plugin.com//7.0.5//EN
TZID:Europe/Rome
X-WR-TIMEZONE:Europe/Rome
BEGIN:VEVENT
UID:63@farmaciasoccorso.it
DTSTART;TZID=Europe/Rome:20260501T083000
DTEND;TZID=Europe/Rome:20260501T123000
DTSTAMP:20260424T081241Z
URL:https://www.farmaciasoccorso.it/eventi/apertura-straordinaria-9/
SUMMARY:Apertura straordinaria
DESCRIPTION:Venerdì 1° maggio siamo aperti con orario 8.30 - 12.30
LOCATION:Farmacia N.S. del Soccorso\, Corso F. Magellano 30-32r\, Genova\, 
 16149\, Italia
X-APPLE-STRUCTURED-LOCATION;VALUE=URI;X-ADDRESS=Corso F. Magellano 30-32r\,
  Genova\, 16149\, Italia;X-APPLE-RADIUS=100;X-TITLE=Farmacia N.S. del Socc
 orso:geo:0,0
END:VEVENT
BEGIN:VTIMEZONE
TZID:Europe/Rome
X-LIC-LOCATION:Europe/Rome
BEGIN:DAYLIGHT
DTSTART:20260329T030000
TZOFFSETFROM:+0100
TZOFFSETTO:+0200
TZNAME:CEST
END:DAYLIGHT
END:VTIMEZONE
END:VCALENDAR